BEGIN:VCALENDAR
VERSION:2.0
PRODID:-//Golden Oaks - ECPv6.15.20//NONSGML v1.0//EN
CALSCALE:GREGORIAN
METHOD:PUBLISH
X-ORIGINAL-URL:https://goldenoaksgolfclub.com
X-WR-CALDESC:Events for Golden Oaks
REFRESH-INTERVAL;VALUE=DURATION:PT1H
X-Robots-Tag:noindex
X-PUBLISHED-TTL:PT1H
BEGIN:VTIMEZONE
TZID:America/New_York
BEGIN:DAYLIGHT
TZOFFSETFROM:-0500
TZOFFSETTO:-0400
TZNAME:EDT
DTSTART:20230312T070000
END:DAYLIGHT
BEGIN:STANDARD
TZOFFSETFROM:-0400
TZOFFSETTO:-0500
TZNAME:EST
DTSTART:20231105T060000
END:STANDARD
BEGIN:DAYLIGHT
TZOFFSETFROM:-0500
TZOFFSETTO:-0400
TZNAME:EDT
DTSTART:20240310T070000
END:DAYLIGHT
BEGIN:STANDARD
TZOFFSETFROM:-0400
TZOFFSETTO:-0500
TZNAME:EST
DTSTART:20241103T060000
END:STANDARD
BEGIN:DAYLIGHT
TZOFFSETFROM:-0500
TZOFFSETTO:-0400
TZNAME:EDT
DTSTART:20250309T070000
END:DAYLIGHT
BEGIN:STANDARD
TZOFFSETFROM:-0400
TZOFFSETTO:-0500
TZNAME:EST
DTSTART:20251102T060000
END:STANDARD
END:VTIMEZONE
BEGIN:VEVENT
DTSTART;VALUE=DATE:20241005
DTEND;VALUE=DATE:20241006
DTSTAMP:20260425T200159
CREATED:20240909T134356Z
LAST-MODIFIED:20240909T181548Z
UID:212695-1728086400-1728172799@goldenoaksgolfclub.com
SUMMARY:6th Annual Fall Classic
DESCRIPTION:6th Annual Fall Classic\, October 5TH\nJoin us for our 6th Annual Fall Classic\, this two-person scramble is the perfect way to enjoy the fall weather. Enjoy a day of golf\, contests\, prizes\, and lunch after golf. \nSchedule\n\nRegistration: 8:30 – 9:40 am\nAnnouncements: 9:50 am\nShotgun Start:  10 am\nLunch: After golf\n\nIncludes:\n\n18 holes of golf\nGolf cart rental\nRange balls\nCourse Contests\nPrize pool\nLunch after golf\n\n  \nRegister Now \nTo register\, fill out the Registration Form by 12pm\, October 2nd\, and send the completed form and payment \nContact Stephen@GoldenOaksGolfClub.com with any questions. \nCheck out more events at Golden Oaks on our events page or stay up to date with the latest by following us on Facebook and Instagram! \n 
URL:https://goldenoaksgolfclub.com/event/6th-annual-fall-classic/
LOCATION:Golden Oaks Golf Club\, 10 Stonehedge Drive\, Fleetwood\, 19522\, United States
CATEGORIES:Scramble,Shotgun Start
ATTACH;FMTTYPE=image/jpeg:https://goldenoaksgolfclub.com/wp-content/uploads/2024/09/Golden-Oaks-Event6th-Annual-Fall-Classic.jpg
ORGANIZER;CN="Golden Oaks Golf Club":MAILTO:info@goldenoaksgolfclub.com
END:VEVENT
BEGIN:VEVENT
DTSTART;TZID=America/New_York:20241025T170000
DTEND;TZID=America/New_York:20241025T235900
DTSTAMP:20260425T200159
CREATED:20241009T193802Z
LAST-MODIFIED:20241009T194407Z
UID:212736-1729875600-1729900740@goldenoaksgolfclub.com
SUMMARY:October 2024 Night Golf Tournament
DESCRIPTION:October 2024 Night Golf Tournament\, October 25TH\nJoin us for our October 2024 Night Golf Tournament\, and enjoy the crisp fall weather with this fan-favorite tournament. Enjoy dinner\, a 9-hole scramble\, prizes\, and more! \nRegistration Fee\n\nMembers: $70\nNon-Members: $80\n\nSchedule\n\nDinner: 5:00pm – 6:30pm\nAnnouncements: 6:30pm – 6:45pm\nShotgun Start:  7:00pm\n\nIncludes:\n\n9-hole scramble\n1 night golf ball\nDonation to charity\nPrizes\nDinner\n\n  \nRegister Now \nTo register\, fill out the Registration Form by 12pm\, October 22nd\, and send the completed form and payment \nContact Stephen@GoldenOaksGolfClub.com with any questions. \nCheck out more events at Golden Oaks on our events page or stay up to date with the latest by following us on Facebook and Instagram! \n 
URL:https://goldenoaksgolfclub.com/event/october-2024-night-golf-tournament/
LOCATION:Golden Oaks Golf Club\, 10 Stonehedge Drive\, Fleetwood\, 19522\, United States
CATEGORIES:Scramble,Shotgun Start
ATTACH;FMTTYPE=image/jpeg:https://goldenoaksgolfclub.com/wp-content/uploads/2024/10/Golden-Oaks-Event-NightGolf2024.jpg
ORGANIZER;CN="Golden Oaks Golf Club":MAILTO:info@goldenoaksgolfclub.com
END:VEVENT
END:VCALENDAR