BEGIN:VCALENDAR
VERSION:2.0
PRODID:-//Golden Oaks - ECPv6.15.20//NONSGML v1.0//EN
CALSCALE:GREGORIAN
METHOD:PUBLISH
X-ORIGINAL-URL:https://goldenoaksgolfclub.com
X-WR-CALDESC:Events for Golden Oaks
REFRESH-INTERVAL;VALUE=DURATION:PT1H
X-Robots-Tag:noindex
X-PUBLISHED-TTL:PT1H
BEGIN:VTIMEZONE
TZID:America/New_York
BEGIN:DAYLIGHT
TZOFFSETFROM:-0500
TZOFFSETTO:-0400
TZNAME:EDT
DTSTART:20230312T070000
END:DAYLIGHT
BEGIN:STANDARD
TZOFFSETFROM:-0400
TZOFFSETTO:-0500
TZNAME:EST
DTSTART:20231105T060000
END:STANDARD
BEGIN:DAYLIGHT
TZOFFSETFROM:-0500
TZOFFSETTO:-0400
TZNAME:EDT
DTSTART:20240310T070000
END:DAYLIGHT
BEGIN:STANDARD
TZOFFSETFROM:-0400
TZOFFSETTO:-0500
TZNAME:EST
DTSTART:20241103T060000
END:STANDARD
BEGIN:DAYLIGHT
TZOFFSETFROM:-0500
TZOFFSETTO:-0400
TZNAME:EDT
DTSTART:20250309T070000
END:DAYLIGHT
BEGIN:STANDARD
TZOFFSETFROM:-0400
TZOFFSETTO:-0500
TZNAME:EST
DTSTART:20251102T060000
END:STANDARD
END:VTIMEZONE
BEGIN:VEVENT
DTSTART;TZID=America/New_York:20240719T163000
DTEND;TZID=America/New_York:20240719T230000
DTSTAMP:20260426T001906
CREATED:20240607T165826Z
LAST-MODIFIED:20240909T120918Z
UID:212491-1721406600-1721430000@goldenoaksgolfclub.com
SUMMARY:Day / Night Double Header
DESCRIPTION:Day / Night Double Header\, July 19TH\nJoin us for an evening of golf\, food\, and fun! Our Day / Night Double Header 4-person\, 18-hole scramble\, that includes a dinner buffet and prizes. \nPRICE: Per/Player\n\nNon-Members: $95\nMember: $85 (Sign up by Foursome)\n\nSchedule\n\nCheck-in: 4:30pm\nAnnouncements: 5:20pm\nDay Shotgun Start:  5:30pm\nDinner: After the first 9 holes\nNight Shotgun Start:  5:30pm\n\nINCLUDES:\n\n1 Night Golf Ball\n2 – 9-Hole Rounds\nPrizes\nDinner Buffet\nDonation to Charity\n\n  \nRegister Now\nTo register\, fill out the Registration Form and mail to: \nGolden Oaks Golf Club\nAttn: Dave Zwoyer\n10 Stonehedge Drive\nFleetwood\, PA 19522 \n  \n***Completed forms and payment must be returned by 6pm July 15th*** \n 
URL:https://goldenoaksgolfclub.com/event/day-night-double-header/
LOCATION:Golden Oaks Golf Club\, 10 Stonehedge Drive\, Fleetwood\, 19522\, United States
CATEGORIES:Scramble,Shotgun Start
ATTACH;FMTTYPE=image/png:https://goldenoaksgolfclub.com/wp-content/uploads/2024/05/Golden-Oaks-Drive-Fore-A-Cause.png
ORGANIZER;CN="Golden Oaks Golf Club":MAILTO:info@goldenoaksgolfclub.com
END:VEVENT
END:VCALENDAR