BEGIN:VCALENDAR
VERSION:2.0
PRODID:-//Golden Oaks - ECPv6.15.20//NONSGML v1.0//EN
CALSCALE:GREGORIAN
METHOD:PUBLISH
X-ORIGINAL-URL:https://goldenoaksgolfclub.com
X-WR-CALDESC:Events for Golden Oaks
REFRESH-INTERVAL;VALUE=DURATION:PT1H
X-Robots-Tag:noindex
X-PUBLISHED-TTL:PT1H
BEGIN:VTIMEZONE
TZID:America/New_York
BEGIN:DAYLIGHT
TZOFFSETFROM:-0500
TZOFFSETTO:-0400
TZNAME:EDT
DTSTART:20230312T070000
END:DAYLIGHT
BEGIN:STANDARD
TZOFFSETFROM:-0400
TZOFFSETTO:-0500
TZNAME:EST
DTSTART:20231105T060000
END:STANDARD
BEGIN:DAYLIGHT
TZOFFSETFROM:-0500
TZOFFSETTO:-0400
TZNAME:EDT
DTSTART:20240310T070000
END:DAYLIGHT
BEGIN:STANDARD
TZOFFSETFROM:-0400
TZOFFSETTO:-0500
TZNAME:EST
DTSTART:20241103T060000
END:STANDARD
BEGIN:DAYLIGHT
TZOFFSETFROM:-0500
TZOFFSETTO:-0400
TZNAME:EDT
DTSTART:20250309T070000
END:DAYLIGHT
BEGIN:STANDARD
TZOFFSETFROM:-0400
TZOFFSETTO:-0500
TZNAME:EST
DTSTART:20251102T060000
END:STANDARD
END:VTIMEZONE
BEGIN:VEVENT
DTSTART;VALUE=DATE:20240806
DTEND;VALUE=DATE:20240807
DTSTAMP:20260421T072702
CREATED:20240523T203337Z
LAST-MODIFIED:20240909T120847Z
UID:212477-1722902400-1722988799@goldenoaksgolfclub.com
SUMMARY:4th Annual OVHS Golf Team Scramble
DESCRIPTION:4TH  ANNUAL OVHS GOLF TEAM SCRAMBLE\, AUGUST 6TH\nJoin us for fun\, camaraderie\, and golf\, supporting the OVHS Golf Team at our 4th Annual OVHS Golf Team Scramble! Your participation will be greatly appreciated\, whether you’re a seasoned golfer or a novice. Not a golfer? No problem; you can also contribute by sponsoring the event or donating a raffle basket. \nParticipation Options:\n\nPlay in the scramble\nSponsor the event\nDonate a raffle basket\n\nTo express your interest or for more details\, don’t hesitate to contact Dawn at DWegsphotography@yahoo.com. \nAbout The Day\n\nRegistration & Coffee\n8am Shotgun start\n18 holes of scramble golf\nContests & Prizes\nRaffles\nPost golf lunch\n\nClick to Learn More \nSharing Is Caring\nDo you know someone who might be interested in joining us or contributing in any way? Please share this event with them. The more\, the merrier! \nSponsorship Opportunities\nWant to help with this event benefitting young golfers? We’re offering exciting sponsorship opportunities that will help get your business name in front of all our players. Plus\, there will be extensive coverage of the event on our Facebook page and the Athletic page. \nAct Fast!\nOur previous three events sold out rapidly\, so return your registration forms to us on time. \nRegister Now\nTo register\, fill out the Registration Form\, scan or take a photo of it\, then email it to DWegsphotography@yahoo.com \n***Everyone needs to register by July 1st*** \nPayment Methods\nFor your convenience\, we have multiple payment options: \nVia Venmo: Send your payment to @OVABC (please add a 2.9% service fee if paying by credit card). Make sure to mention ‘for OVHS Golf Team’ in the comments section. \nVia Check: Write a check payable to ‘OVHS – Oley Valley Athletic Booster Club’ and mail it to 17 Jefferson ST\, Oley\, PA 19547. \nWe’re excited to see you in July and make this event successful! \nAll proceeds will directly support the OVHS Golf Team.
URL:https://goldenoaksgolfclub.com/event/4th-annual-ovhs-golf-team-scramble/
LOCATION:Golden Oaks Golf Club\, 10 Stonehedge Drive\, Fleetwood\, 19522\, United States
CATEGORIES:Scramble,Shotgun Start
ATTACH;FMTTYPE=image/png:https://goldenoaksgolfclub.com/wp-content/uploads/2024/05/Golden-Oaks-4th-Annual-OVHS-Golf-Team-Scramble.png
ORGANIZER;CN="Golden Oaks Golf Club":MAILTO:info@goldenoaksgolfclub.com
END:VEVENT
END:VCALENDAR