BEGIN:VCALENDAR
VERSION:2.0
PRODID:-//Golden Oaks - ECPv6.15.20//NONSGML v1.0//EN
CALSCALE:GREGORIAN
METHOD:PUBLISH
X-WR-CALNAME:Golden Oaks
X-ORIGINAL-URL:https://goldenoaksgolfclub.com
X-WR-CALDESC:Events for Golden Oaks
REFRESH-INTERVAL;VALUE=DURATION:PT1H
X-Robots-Tag:noindex
X-PUBLISHED-TTL:PT1H
BEGIN:VTIMEZONE
TZID:America/New_York
BEGIN:DAYLIGHT
TZOFFSETFROM:-0500
TZOFFSETTO:-0400
TZNAME:EDT
DTSTART:20210314T070000
END:DAYLIGHT
BEGIN:STANDARD
TZOFFSETFROM:-0400
TZOFFSETTO:-0500
TZNAME:EST
DTSTART:20211107T060000
END:STANDARD
BEGIN:DAYLIGHT
TZOFFSETFROM:-0500
TZOFFSETTO:-0400
TZNAME:EDT
DTSTART:20220313T070000
END:DAYLIGHT
BEGIN:STANDARD
TZOFFSETFROM:-0400
TZOFFSETTO:-0500
TZNAME:EST
DTSTART:20221106T060000
END:STANDARD
BEGIN:DAYLIGHT
TZOFFSETFROM:-0500
TZOFFSETTO:-0400
TZNAME:EDT
DTSTART:20230312T070000
END:DAYLIGHT
BEGIN:STANDARD
TZOFFSETFROM:-0400
TZOFFSETTO:-0500
TZNAME:EST
DTSTART:20231105T060000
END:STANDARD
END:VTIMEZONE
BEGIN:VEVENT
DTSTART;VALUE=DATE:20220421
DTEND;VALUE=DATE:20220902
DTSTAMP:20260423T031646
CREATED:20220328T152640Z
LAST-MODIFIED:20220328T152704Z
UID:785-1650499200-1662076799@goldenoaksgolfclub.com
SUMMARY:Thursday Night Oaks League
DESCRIPTION:SEASON:\nThe league will consist of two 10 week seasons for a total of 20 weeks.\nTee Time > Mod. S/G @ 5:30 PM \n1st Half (Front 9):\nApril 21 – 28\nMay 5 – 12 – 19 – 26\nJune 2 – 9 – 16 – 23 \n2nd Half (Back 9):\nJune 30\nJuly 7 – 14 – 21 – 28\nAugust 4 – 11 – 18 – 25\nSeptember 1  \nTEAMS:\nTeams will consist of 4 players (2 players each week & 2 substitutes). The names of the 4 players must be submitted by Friday\, April 15th for the first half of the league. You are able to change any players for the second half of the league\, they can be made and must be submitted by June 23rd\, but you can only change 2 players for the second half of the league for your team. \nFORMAT:\nThe league format is a 2 person scramble (2 of the 4 players per team) using the Stableford Scoring System. If a team only has 1 player available\, that player can play his own ball instead of the team forfeiting. \nENTRY – FEE & DAILY FEE:\nThe Entry Fee for each team is $180 (cash or check). The Entry Fee will include a Registration Gift (4 Team Members). The fee to play each week is $37 / player for Non – Members & $20 / player for Members. The fee includes golf\, cart\, 1 range token\, food after golf\, and the weekly prize pool. The weekly winners will be announced the following week. \n*** The fees will not be discounted\, because a player can’t stay for the food *** \nPRIZE POOL:\nPrizes will be awarded for the 1st half & 2nd half of the year & the overall champion. The prize pool will be determined by the number of teams in the league. All money (100%) will be handed out during the year. \nSCORING POINTS:\nPar: 1 / Birdie: 3 / Eagle: 5 / Double Eagle: 10 / Hole in One: 20\nBogey: – 1 / Double Bogey: – 2 / Triple Bogey or Worse: – 3 / Team Forfeit: – 20 /\n*** Closest to the Pin: 5 *** \nDeadline to Signup:\nFriday\, April 15th\, 2022 Spots Will Fill Up Quick!!! \nCall The Proshop to Reserve Your Team Now at 610-944-6000 Ex.#1 \nOR\n﻿\nFill out this attached file and send it to Stephen@GoldenOaksGolfClub.com \nDOWNLOAD FILE HERE
URL:https://goldenoaksgolfclub.com/event/thursday-night-oaks-league/
LOCATION:Golden Oaks Golf Club\, 10 Stonehedge Drive\, Fleetwood\, 19522\, United States
CATEGORIES:Leagues
ATTACH;FMTTYPE=image/jpeg:https://goldenoaksgolfclub.com/wp-content/uploads/2022/03/Thursday-Night-Oaks-League.jpg
ORGANIZER;CN="Golden Oaks Golf Club":MAILTO:info@goldenoaksgolfclub.com
END:VEVENT
END:VCALENDAR