BEGIN:VCALENDAR
VERSION:2.0
PRODID:-//Golden Oaks - ECPv6.15.20//NONSGML v1.0//EN
CALSCALE:GREGORIAN
METHOD:PUBLISH
X-WR-CALNAME:Golden Oaks
X-ORIGINAL-URL:https://goldenoaksgolfclub.com
X-WR-CALDESC:Events for Golden Oaks
REFRESH-INTERVAL;VALUE=DURATION:PT1H
X-Robots-Tag:noindex
X-PUBLISHED-TTL:PT1H
BEGIN:VTIMEZONE
TZID:America/New_York
BEGIN:DAYLIGHT
TZOFFSETFROM:-0500
TZOFFSETTO:-0400
TZNAME:EDT
DTSTART:20240310T070000
END:DAYLIGHT
BEGIN:STANDARD
TZOFFSETFROM:-0400
TZOFFSETTO:-0500
TZNAME:EST
DTSTART:20241103T060000
END:STANDARD
BEGIN:DAYLIGHT
TZOFFSETFROM:-0500
TZOFFSETTO:-0400
TZNAME:EDT
DTSTART:20250309T070000
END:DAYLIGHT
BEGIN:STANDARD
TZOFFSETFROM:-0400
TZOFFSETTO:-0500
TZNAME:EST
DTSTART:20251102T060000
END:STANDARD
BEGIN:DAYLIGHT
TZOFFSETFROM:-0500
TZOFFSETTO:-0400
TZNAME:EDT
DTSTART:20260308T070000
END:DAYLIGHT
BEGIN:STANDARD
TZOFFSETFROM:-0400
TZOFFSETTO:-0500
TZNAME:EST
DTSTART:20261101T060000
END:STANDARD
END:VTIMEZONE
BEGIN:VEVENT
DTSTART;TZID=America/New_York:20251011T083000
DTEND;TZID=America/New_York:20251011T170000
DTSTAMP:20260423T010732
CREATED:20250911T124540Z
LAST-MODIFIED:20250911T130622Z
UID:213481-1760171400-1760202000@goldenoaksgolfclub.com
SUMMARY:7th Annual Fall Classic
DESCRIPTION:7th Annual Fall Classic\, October 11TH\nJoin us for our 7th Annual Fall Classic\, this two-person scramble is the perfect way to enjoy the fall weather. Enjoy a day of golf\, contests\, prizes\, and lunch after golf. \nRegistration Fee:\n\n Member: $75\nNon-Member: $95\n\nSchedule\n\nRegistration: 8:30 – 9:40 am\nAnnouncements: 9:50 am\nShotgun Start:  10 am\nLunch: After golf\n\nIncludes:\n\n18 holes of golf\nGolf cart rental\nRange balls\nCourse Contests\nPrize pool\nLunch after golf\nAnd the chance to win a FREE membership to Golden Oaks!\n\n  \nRegister Now \nTo register\, fill out the Registration Form by 12pm\, October 8th\, and send the completed form and payment \nContact the Pro Shop at 610-944-6000 ext. 1 with any questions. \nCheck out more events at Golden Oaks on our events page or stay up to date with the latest by following us on Facebook and Instagram!
URL:https://goldenoaksgolfclub.com/event/7th-annual-fall-classic/
LOCATION:Golden Oaks Golf Club\, 10 Stonehedge Drive\, Fleetwood\, 19522\, United States
CATEGORIES:Scramble,Shotgun Start
ATTACH;FMTTYPE=image/png:https://goldenoaksgolfclub.com/wp-content/uploads/2025/09/2025_Golden-Oaks-Fall-Classic-01.png
ORGANIZER;CN="Golden Oaks Golf Club":MAILTO:info@goldenoaksgolfclub.com
END:VEVENT
END:VCALENDAR