BEGIN:VCALENDAR
VERSION:2.0
PRODID:-//Golden Oaks - ECPv6.15.19//NONSGML v1.0//EN
CALSCALE:GREGORIAN
METHOD:PUBLISH
X-WR-CALNAME:Golden Oaks
X-ORIGINAL-URL:https://goldenoaksgolfclub.com
X-WR-CALDESC:Events for Golden Oaks
REFRESH-INTERVAL;VALUE=DURATION:PT1H
X-Robots-Tag:noindex
X-PUBLISHED-TTL:PT1H
BEGIN:VTIMEZONE
TZID:America/New_York
BEGIN:DAYLIGHT
TZOFFSETFROM:-0500
TZOFFSETTO:-0400
TZNAME:EDT
DTSTART:20220313T070000
END:DAYLIGHT
BEGIN:STANDARD
TZOFFSETFROM:-0400
TZOFFSETTO:-0500
TZNAME:EST
DTSTART:20221106T060000
END:STANDARD
BEGIN:DAYLIGHT
TZOFFSETFROM:-0500
TZOFFSETTO:-0400
TZNAME:EDT
DTSTART:20230312T070000
END:DAYLIGHT
BEGIN:STANDARD
TZOFFSETFROM:-0400
TZOFFSETTO:-0500
TZNAME:EST
DTSTART:20231105T060000
END:STANDARD
BEGIN:DAYLIGHT
TZOFFSETFROM:-0500
TZOFFSETTO:-0400
TZNAME:EDT
DTSTART:20240310T070000
END:DAYLIGHT
BEGIN:STANDARD
TZOFFSETFROM:-0400
TZOFFSETTO:-0500
TZNAME:EST
DTSTART:20241103T060000
END:STANDARD
END:VTIMEZONE
BEGIN:VEVENT
DTSTART;VALUE=DATE:20231021
DTEND;VALUE=DATE:20231022
DTSTAMP:20260420T060519
CREATED:20231004T203723Z
LAST-MODIFIED:20231004T203723Z
UID:211985-1697846400-1697932799@goldenoaksgolfclub.com
SUMMARY:5th ANNUAL FALL CLASSIC  2 PLAYER SCRAMBLE
DESCRIPTION:Join Us for the Fall Classic Duo Showdown!\nEntry Fee:\nGolden Oaks Member: $55.00 \nNon-Member: $85.00 \nEntry Fee Includes:\n\n18 Holes Golf & Cart / Range Balls\nTwo-Person Scramble & Prize Pool\nCourse Contests / Lunch after Golf\n& A CHANCE TO WIN A MEMBERSHIP\nFlights: Determined by the # of Teams\n\nSchedule:\n\nRegistration: 9:00 AM\nShotgun Start: 10:00 AM\nLunch: After Golf\n\nOverall Champions win a 5-Day Membership\nMonday through Friday (Carts not Included) \nSkins Game: Optional $20 per Team \nMust Sign Up in the Proshop \n**If there are NO GOOD SKINS\, the money will be donated to a Charity.** \nSign Up by Wednesday the 18th!\nFor more information:\nGot Queries? We’re Here!\nCall: (610) 944-6000 Ex. #1\nMail: Stephen@GoldenOaksGolfClub.com \nSee you at the tee! 🏌️‍♂️🏌️‍♀️🍁🏆 \nSign Up Now!
URL:https://goldenoaksgolfclub.com/event/5th-annual-fall-classic-2-player-scramble/
LOCATION:Golden Oaks Golf Club\, 10 Stonehedge Drive\, Fleetwood\, 19522\, United States
CATEGORIES:Charity Event
ATTACH;FMTTYPE=image/jpeg:https://goldenoaksgolfclub.com/wp-content/uploads/2023/10/Golden-Oaks-0.jpg
END:VEVENT
BEGIN:VEVENT
DTSTART;TZID=America/New_York:20230818T073000
DTEND;TZID=America/New_York:20230818T150000
DTSTAMP:20260420T060519
CREATED:20230725T233129Z
LAST-MODIFIED:20230725T233211Z
UID:211885-1692343800-1692370800@goldenoaksgolfclub.com
SUMMARY:2023 Alumni & Friends Drive FORE a Cause Scholarship Fundraiser
DESCRIPTION:The Berks County Chapter of the Penn State alumni Association will be hosting the 2023 Alumni & Friends Drive Fore a Cause golf outing to support local charity. \nJoin us for the Drive Fore a Cause golf outing! There will be plenty of competitions\, raffles\, giveaways\, and fun for all golfers! Proceeds will support the endowed scholarship fund. \nSIGN UP TODAY!
URL:https://goldenoaksgolfclub.com/event/2023-alumni-friends-drive-fore-a-cause-scholarship-fundraiser/
LOCATION:Golden Oaks Golf Club\, 10 Stonehedge Drive\, Fleetwood\, 19522\, United States
CATEGORIES:Charity Event
ATTACH;FMTTYPE=image/jpeg:https://goldenoaksgolfclub.com/wp-content/uploads/2023/07/2023-Alumni-Friends-Drive-FORE-a-Cause-Scholarship-Fundraiser.jpg
END:VEVENT
END:VCALENDAR