BEGIN:VCALENDAR
VERSION:2.0
PRODID:-//Golden Oaks - ECPv6.15.20//NONSGML v1.0//EN
CALSCALE:GREGORIAN
METHOD:PUBLISH
X-WR-CALNAME:Golden Oaks
X-ORIGINAL-URL:https://goldenoaksgolfclub.com
X-WR-CALDESC:Events for Golden Oaks
REFRESH-INTERVAL;VALUE=DURATION:PT1H
X-Robots-Tag:noindex
X-PUBLISHED-TTL:PT1H
BEGIN:VTIMEZONE
TZID:America/New_York
BEGIN:DAYLIGHT
TZOFFSETFROM:-0500
TZOFFSETTO:-0400
TZNAME:EDT
DTSTART:20250309T070000
END:DAYLIGHT
BEGIN:STANDARD
TZOFFSETFROM:-0400
TZOFFSETTO:-0500
TZNAME:EST
DTSTART:20251102T060000
END:STANDARD
BEGIN:DAYLIGHT
TZOFFSETFROM:-0500
TZOFFSETTO:-0400
TZNAME:EDT
DTSTART:20260308T070000
END:DAYLIGHT
BEGIN:STANDARD
TZOFFSETFROM:-0400
TZOFFSETTO:-0500
TZNAME:EST
DTSTART:20261101T060000
END:STANDARD
BEGIN:DAYLIGHT
TZOFFSETFROM:-0500
TZOFFSETTO:-0400
TZNAME:EDT
DTSTART:20270314T070000
END:DAYLIGHT
BEGIN:STANDARD
TZOFFSETFROM:-0400
TZOFFSETTO:-0500
TZNAME:EST
DTSTART:20271107T060000
END:STANDARD
END:VTIMEZONE
BEGIN:VEVENT
DTSTART;TZID=America/New_York:20260608T070000
DTEND;TZID=America/New_York:20260608T130000
DTSTAMP:20260422T135602
CREATED:20260422T132628Z
LAST-MODIFIED:20260422T132628Z
UID:213836-1780902000-1780923600@goldenoaksgolfclub.com
SUMMARY:2026 Charity Golf Invitational: FairView Counseling and The Play Therapy Center
DESCRIPTION:FairView Counseling and The Play Therapy Center\n2026 Charity Golf Invitational\nMonday\, June 8\, 2026 \n7:00 am REGISTRATION with an 8:30 am SHOTGUN START\nLunch immediately following Tournament \nGolden Oaks Golf Club\, 10 Stonehedge Drive\, Fleetwood\, PA \nJoin us for the fifth annual FairView Counseling and The Play Therapy Center golf invitational. This golf tournament has been designed to be a great event that will allow all participants to have a fun day of golf\, food\, and the ability to mingle with great people\, all for a very important cause. Your participation as either a sponsor or golfer to both will go a long way to help preserve the important services provided by FairView Counseling. \nFairView Counseling and The Play Therapy Center is a 501(c)3 non-profit agency\, founded in 1999. FairView largely introduced play therapy to the community and continues to be one of the only agencies providing both play and art therapies to the children\, adolescents and teens in Berks County. We believe that healthy individuals make healthy families that go on to make healthy communities. Our friendly staff\, relaxed environment\, and convenient location offer children and families a comfortable and comprehensive approach to their mental health care. \nPlayer and Sponsorship spots available. \nPlease complete this form and mail along with your payment to:\nFairView Counseling and The Play Therapy Center\nAttn: 2026 Golf Outing\nPO Box 13614\nReading\, PA 19612 \nTo use a credit card for payment\, call FairView Counseling at 610-396-9091. \nQuestions or Comments – contact us at fvc@fairviewcounseling.org.
URL:https://goldenoaksgolfclub.com/event/2026-charity-golf-invitational-fairview-counseling-and-the-play-therapy-center/
LOCATION:Golden Oaks Golf Club\, 10 Stonehedge Drive\, Fleetwood\, 19522\, United States
CATEGORIES:Charity Event,Shotgun Start
ATTACH;FMTTYPE=image/jpeg:https://goldenoaksgolfclub.com/wp-content/uploads/2026/03/2nd-annual-par-3-shootout.jpg
END:VEVENT
END:VCALENDAR